Workbook

Sheet Equipe 1
G1: régional
A2: div-poule | C2: équipe | D2: J1 Phase 1 | E2: 46284 | F2: =B3:B3 -> 1 | G2: =C3:C3 -> Villefranche/Saône TTCAV 2 | H2: reçoit | I2: =B10 -> 8 | J2: =C10 -> CTT GESSIEN 1
A3: R2 4 | B3: 1 | C3: Villefranche/Saône TTCAV 2 | D3: J1 Phase 1 | E3: 46284 | F3: =B4 -> 2 | G3: =C4 -> LYON 08 ASUL TT 5 | H3: reçoit | I3: =B9 -> 7 | J3: =C9 -> CUSSET TT 2
B4: 2 | C4: LYON 08 ASUL TT 5 | D4: J1 Phase 1 | E4: 46284 | F4: =B5 -> 3 | G4: =C5 -> MONTLUCON ASPTT 1 | H4: reçoit | I4: =B8 -> 6 | J4: =C8 -> CHAMP SUR DRAC CTT 1
B5: 3 | C5: MONTLUCON ASPTT 1 | D5: J1 Phase 1 | E5: 46284 | F5: =B6 -> 4 | G5: =C6 -> VALENCE-BOURG TT 1 | H5: reçoit | I5: =B7 -> 5 | J5: =C7 -> VARCES VIF TT 1
B6: 4 | C6: VALENCE-BOURG TT 1 | D6: J2 Phase 1 | E6: 46298 | F6: =B9 -> 7 | G6: =C9 -> CUSSET TT 2 | H6: reçoit | I6: =B3 -> 1 | J6: =C3 -> Villefranche/Saône TTCAV 2
B7: 5 | C7: VARCES VIF TT 1 | D7: J2 Phase 1 | E7: 46298 | F7: =B8 -> 6 | G7: =C8 -> CHAMP SUR DRAC CTT 1 | H7: reçoit | I7: =B4 -> 2 | J7: =C4 -> LYON 08 ASUL TT 5
B8: 6 | C8: CHAMP SUR DRAC CTT 1 | D8: J2 Phase 1 | E8: 46298 | F8: =B7 -> 5 | G8: =C7 -> VARCES VIF TT 1 | H8: reçoit | I8: =B5 -> 3 | J8: =C5 -> MONTLUCON ASPTT 1
B9: 7 | C9: CUSSET TT 2 | D9: J2 Phase 1 | E9: 46298 | F9: =B10 -> 8 | G9: =C10 -> CTT GESSIEN 1 | H9: reçoit | I9: =B6 -> 4 | J9: =C6 -> VALENCE-BOURG TT 1
B10: 8 | C10: CTT GESSIEN 1 | D10: J3 Phase 1 | E10: 46312 | F10: =B3 -> 1 | G10: =C3 -> Villefranche/Saône TTCAV 2 | H10: reçoit | I10: =B8 -> 6 | J10: =C8 -> CHAMP SUR DRAC CTT 1
D11: J3 Phase 1 | E11: 46312 | F11: =B4 -> 2 | G11: =C4 -> LYON 08 ASUL TT 5 | H11: reçoit | I11: =B7 -> 5 | J11: =C7 -> VARCES VIF TT 1
D12: J3 Phase 1 | E12: 46312 | F12: =B5 -> 3 | G12: =C5 -> MONTLUCON ASPTT 1 | H12: reçoit | I12: =B6 -> 4 | J12: =C6 -> VALENCE-BOURG TT 1
D13: J3 Phase 1 | E13: 46312 | F13: =B10 -> 8 | G13: =C10 -> CTT GESSIEN 1 | H13: reçoit | I13: =B9 -> 7 | J13: =C9 -> CUSSET TT 2
D14: J4 Phase 1 | E14: 46333 | F14: =B7 -> 5 | G14: =C7 -> VARCES VIF TT 1 | H14: reçoit | I14: =B3 -> 1 | J14: =C3 -> Villefranche/Saône TTCAV 2
D15: J4 Phase 1 | E15: 46333 | F15: =B6 -> 4 | G15: =C6 -> VALENCE-BOURG TT 1 | H15: reçoit | I15: =B4 -> 2 | J15: =C4 -> LYON 08 ASUL TT 5
D16: J4 Phase 1 | E16: 46333 | F16: =B5 -> 3 | G16: =C5 -> MONTLUCON ASPTT 1 | H16: reçoit | I16: =B10 -> 8 | J16: =C10 -> CTT GESSIEN 1
D17: J4 Phase 1 | E17: 46333 | F17: =B8 -> 6 | G17: =C8 -> CHAMP SUR DRAC CTT 1 | H17: reçoit | I17: =B9 -> 7 | J17: =C9 -> CUSSET TT 2
D18: J5 Phase 1 | E18: 46347 | F18: =B3 -> 1 | G18: =C3 -> Villefranche/Saône TTCAV 2 | H18: reçoit | I18: =B6 -> 4 | J18: =C6 -> VALENCE-BOURG TT 1
D19: J5 Phase 1 | E19: 46347 | F19: =B4 -> 2 | G19: =C4 -> LYON 08 ASUL TT 5 | H19: reçoit | I19: =B5 -> 3 | J19: =C5 -> MONTLUCON ASPTT 1
D20: J5 Phase 1 | E20: 46347 | F20: =B9 -> 7 | G20: =C9 -> CUSSET TT 2 | H20: reçoit | I20: =B7 -> 5 | J20: =C7 -> VARCES VIF TT 1
D21: J5 Phase 1 | E21: 46347 | F21: =B10 -> 8 | G21: =C10 -> CTT GESSIEN 1 | H21: reçoit | I21: =B8 -> 6 | J21: =C8 -> CHAMP SUR DRAC CTT 1
D22: J6 Phase 1 | E22: 46361 | F22: =B5 -> 3 | G22: =C5 -> MONTLUCON ASPTT 1 | H22: reçoit | I22: =B3 -> 1 | J22: =C3 -> Villefranche/Saône TTCAV 2
D23: J6 Phase 1 | E23: 46361 | F23: =B4 -> 2 | G23: =C4 -> LYON 08 ASUL TT 5 | H23: reçoit | I23: =B10 -> 8 | J23: =C10 -> CTT GESSIEN 1
D24: J6 Phase 1 | E24: 46361 | F24: =B6 -> 4 | G24: =C6 -> VALENCE-BOURG TT 1 | H24: reçoit | I24: =B9 -> 7 | J24: =C9 -> CUSSET TT 2
D25: J6 Phase 1 | E25: 46361 | F25: =B7 -> 5 | G25: =C7 -> VARCES VIF TT 1 | H25: reçoit | I25: =B8 -> 6 | J25: =C8 -> CHAMP SUR DRAC CTT 1
D26: J7 Phase 1 | E26: 46368 | F26: =B3 -> 1 | G26: =C3 -> Villefranche/Saône TTCAV 2 | H26: reçoit | I26: =B4 -> 2 | J26: =C4 -> LYON 08 ASUL TT 5
D27: J7 Phase 1 | E27: 46368 | F27: =B9 -> 7 | G27: =C9 -> CUSSET TT 2 | H27: reçoit | I27: =B5 -> 3 | J27: =C5 -> MONTLUCON ASPTT 1
D28: J7 Phase 1 | E28: 46368 | F28: =B8 -> 6 | G28: =C8 -> CHAMP SUR DRAC CTT 1 | H28: reçoit | I28: =B6 -> 4 | J28: =C6 -> VALENCE-BOURG TT 1
D29: J7 Phase 1 | E29: 46368 | F29: =B10 -> 8 | G29: =C10 -> CTT GESSIEN 1 | H29: reçoit | I29: =B7 -> 5 | J29: =C7 -> VARCES VIF TT 1

Sheet Equipe 2
G1: régional
A2: div-poule | C2: équipe | D2: J1 Phase 1 | E2: 46284 | F2: =B3:B3 -> 1 | G2: =C3:C3 -> PRIVAS SC TT (2) | H2: reçoit | I2: =B10 -> 8 | J2: =C10 -> MONTELIER (2)
A3: PR | B3: 1 | C3: PRIVAS SC TT (2) | D3: J1 Phase 1 | E3: 46284 | F3: =B4 -> 2 | G3: =C4 -> TOURNON ERTT (2) | H3: reçoit | I3: =B9 -> 7 | J3: =C9 -> AIRE PING (2)
B4: 2 | C4: TOURNON ERTT (2) | D4: J1 Phase 1 | E4: 46284 | F4: =B5 -> 3 | G4: =C5 -> GOUBETOIS TT (2) | H4: reçoit | I4: =B8 -> 6 | J4: =C8 -> LE CHEYLARD TT (2)
B5: 3 | C5: GOUBETOIS TT (2) | D5: J1 Phase 1 | E5: 46284 | F5: =B6 -> 4 | G5: =C6 -> VALENCE-BOURG TT (2) | H5: reçoit | I5: =B7 -> 5 | J5: =C7 -> TT TRICASTIN (2)
B6: 4 | C6: VALENCE-BOURG TT (2) | D6: J2 Phase 1 | E6: 46298 | F6: =B9 -> 7 | G6: =C9 -> AIRE PING (2) | H6: reçoit | I6: =B3 -> 1 | J6: =C3 -> PRIVAS SC TT (2)
B7: 5 | C7: TT TRICASTIN (2) | D7: J2 Phase 1 | E7: 46298 | F7: =B8 -> 6 | G7: =C8 -> LE CHEYLARD TT (2) | H7: reçoit | I7: =B4 -> 2 | J7: =C4 -> TOURNON ERTT (2)
B8: 6 | C8: LE CHEYLARD TT (2) | D8: J2 Phase 1 | E8: 46298 | F8: =B7 -> 5 | G8: =C7 -> TT TRICASTIN (2) | H8: reçoit | I8: =B5 -> 3 | J8: =C5 -> GOUBETOIS TT (2)
B9: 7 | C9: AIRE PING (2) | D9: J2 Phase 1 | E9: 46298 | F9: =B10 -> 8 | G9: =C10 -> MONTELIER (2) | H9: reçoit | I9: =B6 -> 4 | J9: =C6 -> VALENCE-BOURG TT (2)
B10: 8 | C10: MONTELIER (2) | D10: J3 Phase 1 | E10: 46312 | F10: =B3 -> 1 | G10: =C3 -> PRIVAS SC TT (2) | H10: reçoit | I10: =B8 -> 6 | J10: =C8 -> LE CHEYLARD TT (2)
D11: J3 Phase 1 | E11: 46312 | F11: =B4 -> 2 | G11: =C4 -> TOURNON ERTT (2) | H11: reçoit | I11: =B7 -> 5 | J11: =C7 -> TT TRICASTIN (2)
D12: J3 Phase 1 | E12: 46312 | F12: =B5 -> 3 | G12: =C5 -> GOUBETOIS TT (2) | H12: reçoit | I12: =B6 -> 4 | J12: =C6 -> VALENCE-BOURG TT (2)
D13: J3 Phase 1 | E13: 46312 | F13: =B10 -> 8 | G13: =C10 -> MONTELIER (2) | H13: reçoit | I13: =B9 -> 7 | J13: =C9 -> AIRE PING (2)
D14: J4 Phase 1 | E14: 46333 | F14: =B7 -> 5 | G14: =C7 -> TT TRICASTIN (2) | H14: reçoit | I14: =B3 -> 1 | J14: =C3 -> PRIVAS SC TT (2)
D15: J4 Phase 1 | E15: 46333 | F15: =B6 -> 4 | G15: =C6 -> VALENCE-BOURG TT (2) | H15: reçoit | I15: =B4 -> 2 | J15: =C4 -> TOURNON ERTT (2)
D16: J4 Phase 1 | E16: 46333 | F16: =B5 -> 3 | G16: =C5 -> GOUBETOIS TT (2) | H16: reçoit | I16: =B10 -> 8 | J16: =C10 -> MONTELIER (2)
D17: J4 Phase 1 | E17: 46333 | F17: =B8 -> 6 | G17: =C8 -> LE CHEYLARD TT (2) | H17: reçoit | I17: =B9 -> 7 | J17: =C9 -> AIRE PING (2)
D18: J5 Phase 1 | E18: 46347 | F18: =B3 -> 1 | G18: =C3 -> PRIVAS SC TT (2) | H18: reçoit | I18: =B6 -> 4 | J18: =C6 -> VALENCE-BOURG TT (2)
D19: J5 Phase 1 | E19: 46347 | F19: =B4 -> 2 | G19: =C4 -> TOURNON ERTT (2) | H19: reçoit | I19: =B5 -> 3 | J19: =C5 -> GOUBETOIS TT (2)
D20: J5 Phase 1 | E20: 46347 | F20: =B9 -> 7 | G20: =C9 -> AIRE PING (2) | H20: reçoit | I20: =B7 -> 5 | J20: =C7 -> TT TRICASTIN (2)
D21: J5 Phase 1 | E21: 46347 | F21: =B10 -> 8 | G21: =C10 -> MONTELIER (2) | H21: reçoit | I21: =B8 -> 6 | J21: =C8 -> LE CHEYLARD TT (2)
D22: J6 Phase 1 | E22: 46361 | F22: =B5 -> 3 | G22: =C5 -> GOUBETOIS TT (2) | H22: reçoit | I22: =B3 -> 1 | J22: =C3 -> PRIVAS SC TT (2)
D23: J6 Phase 1 | E23: 46361 | F23: =B4 -> 2 | G23: =C4 -> TOURNON ERTT (2) | H23: reçoit | I23: =B10 -> 8 | J23: =C10 -> MONTELIER (2)
D24: J6 Phase 1 | E24: 46361 | F24: =B6 -> 4 | G24: =C6 -> VALENCE-BOURG TT (2) | H24: reçoit | I24: =B9 -> 7 | J24: =C9 -> AIRE PING (2)
D25: J6 Phase 1 | E25: 46361 | F25: =B7 -> 5 | G25: =C7 -> TT TRICASTIN (2) | H25: reçoit | I25: =B8 -> 6 | J25: =C8 -> LE CHEYLARD TT (2)
D26: J7 Phase 1 | E26: 46368 | F26: =B3 -> 1 | G26: =C3 -> PRIVAS SC TT (2) | H26: reçoit | I26: =B4 -> 2 | J26: =C4 -> TOURNON ERTT (2)
D27: J7 Phase 1 | E27: 46368 | F27: =B9 -> 7 | G27: =C9 -> AIRE PING (2) | H27: reçoit | I27: =B5 -> 3 | J27: =C5 -> GOUBETOIS TT (2)
D28: J7 Phase 1 | E28: 46368 | F28: =B8 -> 6 | G28: =C8 -> LE CHEYLARD TT (2) | H28: reçoit | I28: =B6 -> 4 | J28: =C6 -> VALENCE-BOURG TT (2)
D29: J7 Phase 1 | E29: 46368 | F29: =B10 -> 8 | G29: =C10 -> MONTELIER (2) | H29: reçoit | I29: =B7 -> 5 | J29: =C7 -> TT TRICASTIN (2)

Sheet Equipe 3
G1: régional
A2: div-poule | C2: équipe | D2: J1 Phase 1 | E2: 46284 | F2: =B3:B3 -> 1 | G2: =C3:C3 -> ROMANS ASPTT (6) | H2: reçoit | I2: =B10 -> 8 | J2: =C10 -> VALENCE-BOURG TT (3)
A3: D1 | B3: 1 | C3: ROMANS ASPTT (6) | D3: J1 Phase 1 | E3: 46284 | F3: =B4 -> 2 | G3: =C4 -> PING VALLON PA (1) | H3: reçoit | I3: =B9 -> 7 | J3: =C9 -> BLACONS-CREST (1)
B4: 2 | C4: PING VALLON PA (1) | D4: J1 Phase 1 | E4: 46284 | F4: =B5 -> 3 | G4: =C5 -> LA VOULTE STT (1) | H4: reçoit | I4: =B8 -> 6 | J4: =C8 -> LE TEIL (2)
B5: 3 | C5: LA VOULTE STT (1) | D5: J1 Phase 1 | E5: 46284 | F5: =B6 -> 4 | G5: =C6 -> MONTELIER (3) | H5: reçoit | I5: =B7 -> 5 | J5: =C7 -> POUZINOIS TT (4)
B6: 4 | C6: MONTELIER (3) | D6: J2 Phase 1 | E6: 46298 | F6: =B9 -> 7 | G6: =C9 -> BLACONS-CREST (1) | H6: reçoit | I6: =B3 -> 1 | J6: =C3 -> ROMANS ASPTT (6)
B7: 5 | C7: POUZINOIS TT (4) | D7: J2 Phase 1 | E7: 46298 | F7: =B8 -> 6 | G7: =C8 -> LE TEIL (2) | H7: reçoit | I7: =B4 -> 2 | J7: =C4 -> PING VALLON PA (1)
B8: 6 | C8: LE TEIL (2) | D8: J2 Phase 1 | E8: 46298 | F8: =B7 -> 5 | G8: =C7 -> POUZINOIS TT (4) | H8: reçoit | I8: =B5 -> 3 | J8: =C5 -> LA VOULTE STT (1)
B9: 7 | C9: BLACONS-CREST (1) | D9: J2 Phase 1 | E9: 46298 | F9: =B10 -> 8 | G9: =C10 -> VALENCE-BOURG TT (3) | H9: reçoit | I9: =B6 -> 4 | J9: =C6 -> MONTELIER (3)
B10: 8 | C10: VALENCE-BOURG TT (3) | D10: J3 Phase 1 | E10: 46312 | F10: =B3 -> 1 | G10: =C3 -> ROMANS ASPTT (6) | H10: reçoit | I10: =B8 -> 6 | J10: =C8 -> LE TEIL (2)
D11: J3 Phase 1 | E11: 46312 | F11: =B4 -> 2 | G11: =C4 -> PING VALLON PA (1) | H11: reçoit | I11: =B7 -> 5 | J11: =C7 -> POUZINOIS TT (4)
D12: J3 Phase 1 | E12: 46312 | F12: =B5 -> 3 | G12: =C5 -> LA VOULTE STT (1) | H12: reçoit | I12: =B6 -> 4 | J12: =C6 -> MONTELIER (3)
D13: J3 Phase 1 | E13: 46312 | F13: =B10 -> 8 | G13: =C10 -> VALENCE-BOURG TT (3) | H13: reçoit | I13: =B9 -> 7 | J13: =C9 -> BLACONS-CREST (1)
D14: J4 Phase 1 | E14: 46333 | F14: =B7 -> 5 | G14: =C7 -> POUZINOIS TT (4) | H14: reçoit | I14: =B3 -> 1 | J14: =C3 -> ROMANS ASPTT (6)
D15: J4 Phase 1 | E15: 46333 | F15: =B6 -> 4 | G15: =C6 -> MONTELIER (3) | H15: reçoit | I15: =B4 -> 2 | J15: =C4 -> PING VALLON PA (1)
D16: J4 Phase 1 | E16: 46333 | F16: =B5 -> 3 | G16: =C5 -> LA VOULTE STT (1) | H16: reçoit | I16: =B10 -> 8 | J16: =C10 -> VALENCE-BOURG TT (3)
D17: J4 Phase 1 | E17: 46333 | F17: =B8 -> 6 | G17: =C8 -> LE TEIL (2) | H17: reçoit | I17: =B9 -> 7 | J17: =C9 -> BLACONS-CREST (1)
D18: J5 Phase 1 | E18: 46347 | F18: =B3 -> 1 | G18: =C3 -> ROMANS ASPTT (6) | H18: reçoit | I18: =B6 -> 4 | J18: =C6 -> MONTELIER (3)
D19: J5 Phase 1 | E19: 46347 | F19: =B4 -> 2 | G19: =C4 -> PING VALLON PA (1) | H19: reçoit | I19: =B5 -> 3 | J19: =C5 -> LA VOULTE STT (1)
D20: J5 Phase 1 | E20: 46347 | F20: =B9 -> 7 | G20: =C9 -> BLACONS-CREST (1) | H20: reçoit | I20: =B7 -> 5 | J20: =C7 -> POUZINOIS TT (4)
D21: J5 Phase 1 | E21: 46347 | F21: =B10 -> 8 | G21: =C10 -> VALENCE-BOURG TT (3) | H21: reçoit | I21: =B8 -> 6 | J21: =C8 -> LE TEIL (2)
D22: J6 Phase 1 | E22: 46361 | F22: =B5 -> 3 | G22: =C5 -> LA VOULTE STT (1) | H22: reçoit | I22: =B3 -> 1 | J22: =C3 -> ROMANS ASPTT (6)
D23: J6 Phase 1 | E23: 46361 | F23: =B4 -> 2 | G23: =C4 -> PING VALLON PA (1) | H23: reçoit | I23: =B10 -> 8 | J23: =C10 -> VALENCE-BOURG TT (3)
D24: J6 Phase 1 | E24: 46361 | F24: =B6 -> 4 | G24: =C6 -> MONTELIER (3) | H24: reçoit | I24: =B9 -> 7 | J24: =C9 -> BLACONS-CREST (1)
D25: J6 Phase 1 | E25: 46361 | F25: =B7 -> 5 | G25: =C7 -> POUZINOIS TT (4) | H25: reçoit | I25: =B8 -> 6 | J25: =C8 -> LE TEIL (2)
D26: J7 Phase 1 | E26: 46368 | F26: =B3 -> 1 | G26: =C3 -> ROMANS ASPTT (6) | H26: reçoit | I26: =B4 -> 2 | J26: =C4 -> PING VALLON PA (1)
D27: J7 Phase 1 | E27: 46368 | F27: =B9 -> 7 | G27: =C9 -> BLACONS-CREST (1) | H27: reçoit | I27: =B5 -> 3 | J27: =C5 -> LA VOULTE STT (1)
D28: J7 Phase 1 | E28: 46368 | F28: =B8 -> 6 | G28: =C8 -> LE TEIL (2) | H28: reçoit | I28: =B6 -> 4 | J28: =C6 -> MONTELIER (3)
D29: J7 Phase 1 | E29: 46368 | F29: =B10 -> 8 | G29: =C10 -> VALENCE-BOURG TT (3) | H29: reçoit | I29: =B7 -> 5 | J29: =C7 -> POUZINOIS TT (4)

Sheet Equipe 4
G1: Départemental
A2: div-poule | C2: équipe | D2: J1 Phase 1 | E2: 46284 | F2: =B3:B3 -> 1 | G2: =C3:C3 -> ROMANS ASPTT (7) | H2: reçoit | I2: =B10 -> 8 | J2: =C10 -> VALENCE-BOURG TT (4)
A3: D2 | B3: 1 | C3: ROMANS ASPTT (7) | D3: J1 Phase 1 | E3: 46284 | F3: =B4 -> 2 | G3: =C4 -> LE TEIL (4) | H3: reçoit | I3: =B9 -> 7 | J3: =C9 -> TT TRICASTIN (3)
B4: 2 | C4: LE TEIL (4) | D4: J1 Phase 1 | E4: 46284 | F4: =B5 -> 3 | G4: =C5 -> LE CHEYLARD TT (3) | H4: reçoit | I4: =B8 -> 6 | J4: =C8 -> A.T.T. SUD ARDECHE DROME (1)
B5: 3 | C5: LE CHEYLARD TT (3) | D5: J1 Phase 1 | E5: 46284 | F5: =B6 -> 4 | G5: =C6 -> AUBENAS-VALS TT (4) | H5: reçoit | I5: =B7 -> 5 | J5: =C7 -> POUZINOIS TT (5)
B6: 4 | C6: AUBENAS-VALS TT (4) | D6: J2 Phase 1 | E6: 46298 | F6: =B9 -> 7 | G6: =C9 -> TT TRICASTIN (3) | H6: reçoit | I6: =B3 -> 1 | J6: =C3 -> ROMANS ASPTT (7)
B7: 5 | C7: POUZINOIS TT (5) | D7: J2 Phase 1 | E7: 46298 | F7: =B8 -> 6 | G7: =C8 -> A.T.T. SUD ARDECHE DROME (1) | H7: reçoit | I7: =B4 -> 2 | J7: =C4 -> LE TEIL (4)
B8: 6 | C8: A.T.T. SUD ARDECHE DROME (1) | D8: J2 Phase 1 | E8: 46298 | F8: =B7 -> 5 | G8: =C7 -> POUZINOIS TT (5) | H8: reçoit | I8: =B5 -> 3 | J8: =C5 -> LE CHEYLARD TT (3)
B9: 7 | C9: TT TRICASTIN (3) | D9: J2 Phase 1 | E9: 46298 | F9: =B10 -> 8 | G9: =C10 -> VALENCE-BOURG TT (4) | H9: reçoit | I9: =B6 -> 4 | J9: =C6 -> AUBENAS-VALS TT (4)
B10: 8 | C10: VALENCE-BOURG TT (4) | D10: J3 Phase 1 | E10: 46312 | F10: =B3 -> 1 | G10: =C3 -> ROMANS ASPTT (7) | H10: reçoit | I10: =B8 -> 6 | J10: =C8 -> A.T.T. SUD ARDECHE DROME (1)
D11: J3 Phase 1 | E11: 46312 | F11: =B4 -> 2 | G11: =C4 -> LE TEIL (4) | H11: reçoit | I11: =B7 -> 5 | J11: =C7 -> POUZINOIS TT (5)
D12: J3 Phase 1 | E12: 46312 | F12: =B5 -> 3 | G12: =C5 -> LE CHEYLARD TT (3) | H12: reçoit | I12: =B6 -> 4 | J12: =C6 -> AUBENAS-VALS TT (4)
D13: J3 Phase 1 | E13: 46312 | F13: =B10 -> 8 | G13: =C10 -> VALENCE-BOURG TT (4) | H13: reçoit | I13: =B9 -> 7 | J13: =C9 -> TT TRICASTIN (3)
D14: J4 Phase 1 | E14: 46333 | F14: =B7 -> 5 | G14: =C7 -> POUZINOIS TT (5) | H14: reçoit | I14: =B3 -> 1 | J14: =C3 -> ROMANS ASPTT (7)
D15: J4 Phase 1 | E15: 46333 | F15: =B6 -> 4 | G15: =C6 -> AUBENAS-VALS TT (4) | H15: reçoit | I15: =B4 -> 2 | J15: =C4 -> LE TEIL (4)
D16: J4 Phase 1 | E16: 46333 | F16: =B5 -> 3 | G16: =C5 -> LE CHEYLARD TT (3) | H16: reçoit | I16: =B10 -> 8 | J16: =C10 -> VALENCE-BOURG TT (4)
D17: J4 Phase 1 | E17: 46333 | F17: =B8 -> 6 | G17: =C8 -> A.T.T. SUD ARDECHE DROME (1) | H17: reçoit | I17: =B9 -> 7 | J17: =C9 -> TT TRICASTIN (3)
D18: J5 Phase 1 | E18: 46347 | F18: =B3 -> 1 | G18: =C3 -> ROMANS ASPTT (7) | H18: reçoit | I18: =B6 -> 4 | J18: =C6 -> AUBENAS-VALS TT (4)
D19: J5 Phase 1 | E19: 46347 | F19: =B4 -> 2 | G19: =C4 -> LE TEIL (4) | H19: reçoit | I19: =B5 -> 3 | J19: =C5 -> LE CHEYLARD TT (3)
D20: J5 Phase 1 | E20: 46347 | F20: =B9 -> 7 | G20: =C9 -> TT TRICASTIN (3) | H20: reçoit | I20: =B7 -> 5 | J20: =C7 -> POUZINOIS TT (5)
D21: J5 Phase 1 | E21: 46347 | F21: =B10 -> 8 | G21: =C10 -> VALENCE-BOURG TT (4) | H21: reçoit | I21: =B8 -> 6 | J21: =C8 -> A.T.T. SUD ARDECHE DROME (1)
D22: J6 Phase 1 | E22: 46361 | F22: =B5 -> 3 | G22: =C5 -> LE CHEYLARD TT (3) | H22: reçoit | I22: =B3 -> 1 | J22: =C3 -> ROMANS ASPTT (7)
D23: J6 Phase 1 | E23: 46361 | F23: =B4 -> 2 | G23: =C4 -> LE TEIL (4) | H23: reçoit | I23: =B10 -> 8 | J23: =C10 -> VALENCE-BOURG TT (4)
D24: J6 Phase 1 | E24: 46361 | F24: =B6 -> 4 | G24: =C6 -> AUBENAS-VALS TT (4) | H24: reçoit | I24: =B9 -> 7 | J24: =C9 -> TT TRICASTIN (3)
D25: J6 Phase 1 | E25: 46361 | F25: =B7 -> 5 | G25: =C7 -> POUZINOIS TT (5) | H25: reçoit | I25: =B8 -> 6 | J25: =C8 -> A.T.T. SUD ARDECHE DROME (1)
D26: J7 Phase 1 | E26: 46368 | F26: =B3 -> 1 | G26: =C3 -> ROMANS ASPTT (7) | H26: reçoit | I26: =B4 -> 2 | J26: =C4 -> LE TEIL (4)
D27: J7 Phase 1 | E27: 46368 | F27: =B9 -> 7 | G27: =C9 -> TT TRICASTIN (3) | H27: reçoit | I27: =B5 -> 3 | J27: =C5 -> LE CHEYLARD TT (3)
D28: J7 Phase 1 | E28: 46368 | F28: =B8 -> 6 | G28: =C8 -> A.T.T. SUD ARDECHE DROME (1) | H28: reçoit | I28: =B6 -> 4 | J28: =C6 -> AUBENAS-VALS TT (4)
D29: J7 Phase 1 | E29: 46368 | F29: =B10 -> 8 | G29: =C10 -> VALENCE-BOURG TT (4) | H29: reçoit | I29: =B7 -> 5 | J29: =C7 -> POUZINOIS TT (5)

Sheet Equipe 5
G1: Départemental
A2: div-poule | C2: équipe | D2: J1 Phase 1 | E2: 46284 | F2: =B3:B3 -> 1 | G2: =C3:C3 -> TT TRICASTIN (4) | H2: reçoit | I2: =B10 -> 8 | J2: =C10 -> VALENCE-BOURG TT (5)
A3: D2 A | B3: 1 | C3: TT TRICASTIN (4) | D3: J1 Phase 1 | E3: 46284 | F3: =B4 -> 2 | G3: =C4 -> TT MANTHES (5) | H3: reçoit | I3: =B9 -> 7 | J3: =C9 -> LE TEIL (5)
B4: 2 | C4: TT MANTHES (5) | D4: J1 Phase 1 | E4: 46284 | F4: =B5 -> 3 | G4: =C5 -> LE CHEYLARD TT (4) | H4: reçoit | I4: =B8 -> 6 | J4: =C8 -> DIEULEFIT PPC (1)
B5: 3 | C5: LE CHEYLARD TT (4) | D5: J1 Phase 1 | E5: 46284 | F5: =B6 -> 4 | G5: =C6 -> MONTELIER (4) | H5: reçoit | I5: =B7 -> 5 | J5: =C7 -> PRIVAS SC TT (4)
B6: 4 | C6: MONTELIER (4) | D6: J2 Phase 1 | E6: 46298 | F6: =B9 -> 7 | G6: =C9 -> LE TEIL (5) | H6: reçoit | I6: =B3 -> 1 | J6: =C3 -> TT TRICASTIN (4)
B7: 5 | C7: PRIVAS SC TT (4) | D7: J2 Phase 1 | E7: 46298 | F7: =B8 -> 6 | G7: =C8 -> DIEULEFIT PPC (1) | H7: reçoit | I7: =B4 -> 2 | J7: =C4 -> TT MANTHES (5)
B8: 6 | C8: DIEULEFIT PPC (1) | D8: J2 Phase 1 | E8: 46298 | F8: =B7 -> 5 | G8: =C7 -> PRIVAS SC TT (4) | H8: reçoit | I8: =B5 -> 3 | J8: =C5 -> LE CHEYLARD TT (4)
B9: 7 | C9: LE TEIL (5) | D9: J2 Phase 1 | E9: 46298 | F9: =B10 -> 8 | G9: =C10 -> VALENCE-BOURG TT (5) | H9: reçoit | I9: =B6 -> 4 | J9: =C6 -> MONTELIER (4)
B10: 8 | C10: VALENCE-BOURG TT (5) | D10: J3 Phase 1 | E10: 46312 | F10: =B3 -> 1 | G10: =C3 -> TT TRICASTIN (4) | H10: reçoit | I10: =B8 -> 6 | J10: =C8 -> DIEULEFIT PPC (1)
D11: J3 Phase 1 | E11: 46312 | F11: =B4 -> 2 | G11: =C4 -> TT MANTHES (5) | H11: reçoit | I11: =B7 -> 5 | J11: =C7 -> PRIVAS SC TT (4)
D12: J3 Phase 1 | E12: 46312 | F12: =B5 -> 3 | G12: =C5 -> LE CHEYLARD TT (4) | H12: reçoit | I12: =B6 -> 4 | J12: =C6 -> MONTELIER (4)
D13: J3 Phase 1 | E13: 46312 | F13: =B10 -> 8 | G13: =C10 -> VALENCE-BOURG TT (5) | H13: reçoit | I13: =B9 -> 7 | J13: =C9 -> LE TEIL (5)
D14: J4 Phase 1 | E14: 46333 | F14: =B7 -> 5 | G14: =C7 -> PRIVAS SC TT (4) | H14: reçoit | I14: =B3 -> 1 | J14: =C3 -> TT TRICASTIN (4)
D15: J4 Phase 1 | E15: 46333 | F15: =B6 -> 4 | G15: =C6 -> MONTELIER (4) | H15: reçoit | I15: =B4 -> 2 | J15: =C4 -> TT MANTHES (5)
D16: J4 Phase 1 | E16: 46333 | F16: =B5 -> 3 | G16: =C5 -> LE CHEYLARD TT (4) | H16: reçoit | I16: =B10 -> 8 | J16: =C10 -> VALENCE-BOURG TT (5)
D17: J4 Phase 1 | E17: 46333 | F17: =B8 -> 6 | G17: =C8 -> DIEULEFIT PPC (1) | H17: reçoit | I17: =B9 -> 7 | J17: =C9 -> LE TEIL (5)
D18: J5 Phase 1 | E18: 46347 | F18: =B3 -> 1 | G18: =C3 -> TT TRICASTIN (4) | H18: reçoit | I18: =B6 -> 4 | J18: =C6 -> MONTELIER (4)
D19: J5 Phase 1 | E19: 46347 | F19: =B4 -> 2 | G19: =C4 -> TT MANTHES (5) | H19: reçoit | I19: =B5 -> 3 | J19: =C5 -> LE CHEYLARD TT (4)
D20: J5 Phase 1 | E20: 46347 | F20: =B9 -> 7 | G20: =C9 -> LE TEIL (5) | H20: reçoit | I20: =B7 -> 5 | J20: =C7 -> PRIVAS SC TT (4)
D21: J5 Phase 1 | E21: 46347 | F21: =B10 -> 8 | G21: =C10 -> VALENCE-BOURG TT (5) | H21: reçoit | I21: =B8 -> 6 | J21: =C8 -> DIEULEFIT PPC (1)
D22: J6 Phase 1 | E22: 46361 | F22: =B5 -> 3 | G22: =C5 -> LE CHEYLARD TT (4) | H22: reçoit | I22: =B3 -> 1 | J22: =C3 -> TT TRICASTIN (4)
D23: J6 Phase 1 | E23: 46361 | F23: =B4 -> 2 | G23: =C4 -> TT MANTHES (5) | H23: reçoit | I23: =B10 -> 8 | J23: =C10 -> VALENCE-BOURG TT (5)
D24: J6 Phase 1 | E24: 46361 | F24: =B6 -> 4 | G24: =C6 -> MONTELIER (4) | H24: reçoit | I24: =B9 -> 7 | J24: =C9 -> LE TEIL (5)
D25: J6 Phase 1 | E25: 46361 | F25: =B7 -> 5 | G25: =C7 -> PRIVAS SC TT (4) | H25: reçoit | I25: =B8 -> 6 | J25: =C8 -> DIEULEFIT PPC (1)
D26: J7 Phase 1 | E26: 46368 | F26: =B3 -> 1 | G26: =C3 -> TT TRICASTIN (4) | H26: reçoit | I26: =B4 -> 2 | J26: =C4 -> TT MANTHES (5)
D27: J7 Phase 1 | E27: 46368 | F27: =B9 -> 7 | G27: =C9 -> LE TEIL (5) | H27: reçoit | I27: =B5 -> 3 | J27: =C5 -> LE CHEYLARD TT (4)
D28: J7 Phase 1 | E28: 46368 | F28: =B8 -> 6 | G28: =C8 -> DIEULEFIT PPC (1) | H28: reçoit | I28: =B6 -> 4 | J28: =C6 -> MONTELIER (4)
D29: J7 Phase 1 | E29: 46368 | F29: =B10 -> 8 | G29: =C10 -> VALENCE-BOURG TT (5) | H29: reçoit | I29: =B7 -> 5 | J29: =C7 -> PRIVAS SC TT (4)

Sheet Equipe 6
G1: Départemental
A2: div-poule | C2: équipe | D2: J1 Phase 1 | E2: 46284 | F2: =B3:B3 -> 1 | G2: =C3:C3 -> ROMANS ASPTT (8) | H2: reçoit | I2: =B10 -> 8 | J2: =C10 -> MONTELIER (5)
A3: D3 A | B3: 1 | C3: ROMANS ASPTT (8) | D3: J1 Phase 1 | E3: 46284 | F3: =B4 -> 2 | G3: =C4 -> PING VALLON PA (3) | H3: reçoit | I3: =B9 -> 7 | J3: =C9 -> EXEMPTE
B4: 2 | C4: PING VALLON PA (3) | D4: J1 Phase 1 | E4: 46284 | F4: =B5 -> 3 | G4: =C5 -> BLACONS-CREST (3) | H4: reçoit | I4: =B8 -> 6 | J4: =C8 -> A.T.T. SUD ARDECHE DROME (2)
B5: 3 | C5: BLACONS-CREST (3) | D5: J1 Phase 1 | E5: 46284 | F5: =B6 -> 4 | G5: =C6 -> VALENCE-BOURG TT (6) | H5: reçoit | I5: =B7 -> 5 | J5: =C7 -> PRIVAS SC TT (7)
B6: 4 | C6: VALENCE-BOURG TT (6) | D6: J2 Phase 1 | E6: 46298 | F6: =B9 -> 7 | G6: =C9 -> EXEMPTE | H6: reçoit | I6: =B3 -> 1 | J6: =C3 -> ROMANS ASPTT (8)
B7: 5 | C7: PRIVAS SC TT (7) | D7: J2 Phase 1 | E7: 46298 | F7: =B8 -> 6 | G7: =C8 -> A.T.T. SUD ARDECHE DROME (2) | H7: reçoit | I7: =B4 -> 2 | J7: =C4 -> PING VALLON PA (3)
B8: 6 | C8: A.T.T. SUD ARDECHE DROME (2) | D8: J2 Phase 1 | E8: 46298 | F8: =B7 -> 5 | G8: =C7 -> PRIVAS SC TT (7) | H8: reçoit | I8: =B5 -> 3 | J8: =C5 -> BLACONS-CREST (3)
B9: 7 | C9: EXEMPTE | D9: J2 Phase 1 | E9: 46298 | F9: =B10 -> 8 | G9: =C10 -> MONTELIER (5) | H9: reçoit | I9: =B6 -> 4 | J9: =C6 -> VALENCE-BOURG TT (6)
B10: 8 | C10: MONTELIER (5) | D10: J3 Phase 1 | E10: 46312 | F10: =B3 -> 1 | G10: =C3 -> ROMANS ASPTT (8) | H10: reçoit | I10: =B8 -> 6 | J10: =C8 -> A.T.T. SUD ARDECHE DROME (2)
D11: J3 Phase 1 | E11: 46312 | F11: =B4 -> 2 | G11: =C4 -> PING VALLON PA (3) | H11: reçoit | I11: =B7 -> 5 | J11: =C7 -> PRIVAS SC TT (7)
D12: J3 Phase 1 | E12: 46312 | F12: =B5 -> 3 | G12: =C5 -> BLACONS-CREST (3) | H12: reçoit | I12: =B6 -> 4 | J12: =C6 -> VALENCE-BOURG TT (6)
D13: J3 Phase 1 | E13: 46312 | F13: =B10 -> 8 | G13: =C10 -> MONTELIER (5) | H13: reçoit | I13: =B9 -> 7 | J13: =C9 -> EXEMPTE
D14: J4 Phase 1 | E14: 46333 | F14: =B7 -> 5 | G14: =C7 -> PRIVAS SC TT (7) | H14: reçoit | I14: =B3 -> 1 | J14: =C3 -> ROMANS ASPTT (8)
D15: J4 Phase 1 | E15: 46333 | F15: =B6 -> 4 | G15: =C6 -> VALENCE-BOURG TT (6) | H15: reçoit | I15: =B4 -> 2 | J15: =C4 -> PING VALLON PA (3)
D16: J4 Phase 1 | E16: 46333 | F16: =B5 -> 3 | G16: =C5 -> BLACONS-CREST (3) | H16: reçoit | I16: =B10 -> 8 | J16: =C10 -> MONTELIER (5)
D17: J4 Phase 1 | E17: 46333 | F17: =B8 -> 6 | G17: =C8 -> A.T.T. SUD ARDECHE DROME (2) | H17: reçoit | I17: =B9 -> 7 | J17: =C9 -> EXEMPTE
D18: J5 Phase 1 | E18: 46347 | F18: =B3 -> 1 | G18: =C3 -> ROMANS ASPTT (8) | H18: reçoit | I18: =B6 -> 4 | J18: =C6 -> VALENCE-BOURG TT (6)
D19: J5 Phase 1 | E19: 46347 | F19: =B4 -> 2 | G19: =C4 -> PING VALLON PA (3) | H19: reçoit | I19: =B5 -> 3 | J19: =C5 -> BLACONS-CREST (3)
D20: J5 Phase 1 | E20: 46347 | F20: =B9 -> 7 | G20: =C9 -> EXEMPTE | H20: reçoit | I20: =B7 -> 5 | J20: =C7 -> PRIVAS SC TT (7)
D21: J5 Phase 1 | E21: 46347 | F21: =B10 -> 8 | G21: =C10 -> MONTELIER (5) | H21: reçoit | I21: =B8 -> 6 | J21: =C8 -> A.T.T. SUD ARDECHE DROME (2)
D22: J6 Phase 1 | E22: 46361 | F22: =B5 -> 3 | G22: =C5 -> BLACONS-CREST (3) | H22: reçoit | I22: =B3 -> 1 | J22: =C3 -> ROMANS ASPTT (8)
D23: J6 Phase 1 | E23: 46361 | F23: =B4 -> 2 | G23: =C4 -> PING VALLON PA (3) | H23: reçoit | I23: =B10 -> 8 | J23: =C10 -> MONTELIER (5)
D24: J6 Phase 1 | E24: 46361 | F24: =B6 -> 4 | G24: =C6 -> VALENCE-BOURG TT (6) | H24: reçoit | I24: =B9 -> 7 | J24: =C9 -> EXEMPTE
D25: J6 Phase 1 | E25: 46361 | F25: =B7 -> 5 | G25: =C7 -> PRIVAS SC TT (7) | H25: reçoit | I25: =B8 -> 6 | J25: =C8 -> A.T.T. SUD ARDECHE DROME (2)
D26: J7 Phase 1 | E26: 46368 | F26: =B3 -> 1 | G26: =C3 -> ROMANS ASPTT (8) | H26: reçoit | I26: =B4 -> 2 | J26: =C4 -> PING VALLON PA (3)
D27: J7 Phase 1 | E27: 46368 | F27: =B9 -> 7 | G27: =C9 -> EXEMPTE | H27: reçoit | I27: =B5 -> 3 | J27: =C5 -> BLACONS-CREST (3)
D28: J7 Phase 1 | E28: 46368 | F28: =B8 -> 6 | G28: =C8 -> A.T.T. SUD ARDECHE DROME (2) | H28: reçoit | I28: =B6 -> 4 | J28: =C6 -> VALENCE-BOURG TT (6)
D29: J7 Phase 1 | E29: 46368 | F29: =B10 -> 8 | G29: =C10 -> MONTELIER (5) | H29: reçoit | I29: =B7 -> 5 | J29: =C7 -> PRIVAS SC TT (7)

Sheet Equipe 7
G1: Départemental
A2: div-poule | C2: équipe | D2: J1 Phase 1 | E2: 45913 | F2: =B3:B3 -> 1 | G2: =C3:C3 -> 0 | H2: reçoit | I2: =B10 -> 8 | J2: =C10 -> 0
A3: D3 P2 | B3: 1 | D3: J1 Phase 1 | E3: 45913 | F3: =B4 -> 2 | G3: =C4 -> 0 | H3: reçoit | I3: =B9 -> 7 | J3: =C9 -> 0
B4: 2 | D4: J1 Phase 1 | E4: 45913 | F4: =B5 -> 3 | G4: =C5 -> 0 | H4: reçoit | I4: =B8 -> 6 | J4: =C8 -> 0
B5: 3 | D5: J1 Phase 1 | E5: 45913 | F5: =B6 -> 4 | G5: =C6 -> 0 | H5: reçoit | I5: =B7 -> 5 | J5: =C7 -> 0
B6: 4 | D6: J2 Phase 1 | E6: 45927 | F6: =B9 -> 7 | G6: =C9 -> 0 | H6: reçoit | I6: =B3 -> 1 | J6: =C3 -> 0
B7: 5 | D7: J2 Phase 1 | E7: 45927 | F7: =B8 -> 6 | G7: =C8 -> 0 | H7: reçoit | I7: =B4 -> 2 | J7: =C4 -> 0
B8: 6 | D8: J2 Phase 1 | E8: 45927 | F8: =B7 -> 5 | G8: =C7 -> 0 | H8: reçoit | I8: =B5 -> 3 | J8: =C5 -> 0
B9: 7 | D9: J2 Phase 1 | E9: 45927 | F9: =B10 -> 8 | G9: =C10 -> 0 | H9: reçoit | I9: =B6 -> 4 | J9: =C6 -> 0
B10: 8 | D10: J3 Phase 1 | E10: 45941 | F10: =B3 -> 1 | G10: =C3 -> 0 | H10: reçoit | I10: =B8 -> 6 | J10: =C8 -> 0
D11: J3 Phase 1 | E11: 45941 | F11: =B4 -> 2 | G11: =C4 -> 0 | H11: reçoit | I11: =B7 -> 5 | J11: =C7 -> 0
D12: J3 Phase 1 | E12: 45941 | F12: =B5 -> 3 | G12: =C5 -> 0 | H12: reçoit | I12: =B6 -> 4 | J12: =C6 -> 0
D13: J3 Phase 1 | E13: 45941 | F13: =B10 -> 8 | G13: =C10 -> 0 | H13: reçoit | I13: =B9 -> 7 | J13: =C9 -> 0
D14: J4 Phase 1 | E14: 45976 | F14: =B7 -> 5 | G14: =C7 -> 0 | H14: reçoit | I14: =B3 -> 1 | J14: =C3 -> 0
D15: J4 Phase 1 | E15: 45976 | F15: =B6 -> 4 | G15: =C6 -> 0 | H15: reçoit | I15: =B4 -> 2 | J15: =C4 -> 0
D16: J4 Phase 1 | E16: 45976 | F16: =B5 -> 3 | G16: =C5 -> 0 | H16: reçoit | I16: =B10 -> 8 | J16: =C10 -> 0
D17: J4 Phase 1 | E17: 45976 | F17: =B8 -> 6 | G17: =C8 -> 0 | H17: reçoit | I17: =B9 -> 7 | J17: =C9 -> 0
D18: J5 Phase 1 | E18: 45990 | F18: =B3 -> 1 | G18: =C3 -> 0 | H18: reçoit | I18: =B6 -> 4 | J18: =C6 -> 0
D19: J5 Phase 1 | E19: 45990 | F19: =B4 -> 2 | G19: =C4 -> 0 | H19: reçoit | I19: =B5 -> 3 | J19: =C5 -> 0
D20: J5 Phase 1 | E20: 45990 | F20: =B9 -> 7 | G20: =C9 -> 0 | H20: reçoit | I20: =B7 -> 5 | J20: =C7 -> 0
D21: J5 Phase 1 | E21: 45990 | F21: =B10 -> 8 | G21: =C10 -> 0 | H21: reçoit | I21: =B8 -> 6 | J21: =C8 -> 0
D22: J6 Phase 1 | E22: 46004 | F22: =B5 -> 3 | G22: =C5 -> 0 | H22: reçoit | I22: =B3 -> 1 | J22: =C3 -> 0
D23: J6 Phase 1 | E23: 46004 | F23: =B4 -> 2 | G23: =C4 -> 0 | H23: reçoit | I23: =B10 -> 8 | J23: =C10 -> 0
D24: J6 Phase 1 | E24: 46004 | F24: =B6 -> 4 | G24: =C6 -> 0 | H24: reçoit | I24: =B9 -> 7 | J24: =C9 -> 0
D25: J6 Phase 1 | E25: 46004 | F25: =B7 -> 5 | G25: =C7 -> 0 | H25: reçoit | I25: =B8 -> 6 | J25: =C8 -> 0
D26: J7 Phase 1 | E26: 46032 | F26: =B3 -> 1 | G26: =C3 -> 0 | H26: reçoit | I26: =B4 -> 2 | J26: =C4 -> 0
D27: J7 Phase 1 | E27: 46032 | F27: =B9 -> 7 | G27: =C9 -> 0 | H27: reçoit | I27: =B5 -> 3 | J27: =C5 -> 0
D28: J7 Phase 1 | E28: 46032 | F28: =B8 -> 6 | G28: =C8 -> 0 | H28: reçoit | I28: =B6 -> 4 | J28: =C6 -> 0
D29: J7 Phase 1 | E29: 46032 | F29: =B10 -> 8 | G29: =C10 -> 0 | H29: reçoit | I29: =B7 -> 5 | J29: =C7 -> 0

Sheet Equipe 8
G1: Départemental
A2: div-poule | B2: N° club | C2: équipe | D2: J1 Phase 1 | E2: 45913 | F2: =B3:B3 -> 1 | G2: =C3:C3 -> 0 | H2: reçoit | I2: =B10 -> 8 | J2: =C10 -> 0
A3: D3 P1 | B3: 1 | D3: J1 Phase 1 | E3: 45913 | F3: =B4 -> 2 | G3: =C4 -> 0 | H3: reçoit | I3: =B9 -> 7 | J3: =C9 -> 0
B4: 2 | D4: J1 Phase 1 | E4: 45913 | F4: =B5 -> 3 | G4: =C5 -> 0 | H4: reçoit | I4: =B8 -> 6 | J4: =C8 -> 0
B5: 3 | D5: J1 Phase 1 | E5: 45913 | F5: =B6 -> 4 | G5: =C6 -> 0 | H5: reçoit | I5: =B7 -> 5 | J5: =C7 -> 0
B6: 4 | D6: J2 Phase 1 | E6: 45927 | F6: =B9 -> 7 | G6: =C9 -> 0 | H6: reçoit | I6: =B3 -> 1 | J6: =C3 -> 0
B7: 5 | D7: J2 Phase 1 | E7: 45927 | F7: =B8 -> 6 | G7: =C8 -> 0 | H7: reçoit | I7: =B4 -> 2 | J7: =C4 -> 0
B8: 6 | D8: J2 Phase 1 | E8: 45927 | F8: =B7 -> 5 | G8: =C7 -> 0 | H8: reçoit | I8: =B5 -> 3 | J8: =C5 -> 0
B9: 7 | D9: J2 Phase 1 | E9: 45927 | F9: =B10 -> 8 | G9: =C10 -> 0 | H9: reçoit | I9: =B6 -> 4 | J9: =C6 -> 0
B10: 8 | D10: J3 Phase 1 | E10: 45941 | F10: =B3 -> 1 | G10: =C3 -> 0 | H10: reçoit | I10: =B8 -> 6 | J10: =C8 -> 0
D11: J3 Phase 1 | E11: 45941 | F11: =B4 -> 2 | G11: =C4 -> 0 | H11: reçoit | I11: =B7 -> 5 | J11: =C7 -> 0
D12: J3 Phase 1 | E12: 45941 | F12: =B5 -> 3 | G12: =C5 -> 0 | H12: reçoit | I12: =B6 -> 4 | J12: =C6 -> 0
D13: J3 Phase 1 | E13: 45941 | F13: =B10 -> 8 | G13: =C10 -> 0 | H13: reçoit | I13: =B9 -> 7 | J13: =C9 -> 0
D14: J4 Phase 1 | E14: 45976 | F14: =B7 -> 5 | G14: =C7 -> 0 | H14: reçoit | I14: =B3 -> 1 | J14: =C3 -> 0
D15: J4 Phase 1 | E15: 45976 | F15: =B6 -> 4 | G15: =C6 -> 0 | H15: reçoit | I15: =B4 -> 2 | J15: =C4 -> 0
D16: J4 Phase 1 | E16: 45976 | F16: =B5 -> 3 | G16: =C5 -> 0 | H16: reçoit | I16: =B10 -> 8 | J16: =C10 -> 0
D17: J4 Phase 1 | E17: 45976 | F17: =B8 -> 6 | G17: =C8 -> 0 | H17: reçoit | I17: =B9 -> 7 | J17: =C9 -> 0
D18: J5 Phase 1 | E18: 45990 | F18: =B3 -> 1 | G18: =C3 -> 0 | H18: reçoit | I18: =B6 -> 4 | J18: =C6 -> 0
D19: J5 Phase 1 | E19: 45990 | F19: =B4 -> 2 | G19: =C4 -> 0 | H19: reçoit | I19: =B5 -> 3 | J19: =C5 -> 0
D20: J5 Phase 1 | E20: 45990 | F20: =B9 -> 7 | G20: =C9 -> 0 | H20: reçoit | I20: =B7 -> 5 | J20: =C7 -> 0
D21: J5 Phase 1 | E21: 45990 | F21: =B10 -> 8 | G21: =C10 -> 0 | H21: reçoit | I21: =B8 -> 6 | J21: =C8 -> 0
D22: J6 Phase 1 | E22: 46004 | F22: =B5 -> 3 | G22: =C5 -> 0 | H22: reçoit | I22: =B3 -> 1 | J22: =C3 -> 0
D23: J6 Phase 1 | E23: 46004 | F23: =B4 -> 2 | G23: =C4 -> 0 | H23: reçoit | I23: =B10 -> 8 | J23: =C10 -> 0
D24: J6 Phase 1 | E24: 46004 | F24: =B6 -> 4 | G24: =C6 -> 0 | H24: reçoit | I24: =B9 -> 7 | J24: =C9 -> 0
D25: J6 Phase 1 | E25: 46004 | F25: =B7 -> 5 | G25: =C7 -> 0 | H25: reçoit | I25: =B8 -> 6 | J25: =C8 -> 0
D26: J7 Phase 1 | E26: 46032 | F26: =B3 -> 1 | G26: =C3 -> 0 | H26: reçoit | I26: =B4 -> 2 | J26: =C4 -> 0
D27: J7 Phase 1 | E27: 46032 | F27: =B9 -> 7 | G27: =C9 -> 0 | H27: reçoit | I27: =B5 -> 3 | J27: =C5 -> 0
D28: J7 Phase 1 | E28: 46032 | F28: =B8 -> 6 | G28: =C8 -> 0 | H28: reçoit | I28: =B6 -> 4 | J28: =C6 -> 0
D29: J7 Phase 1 | E29: 46032 | F29: =B10 -> 8 | G29: =C10 -> 0 | H29: reçoit | I29: =B7 -> 5 | J29: =C7 -> 0

Sheet Tableau rencontres
B1: J1 | C1: J2 | D1: J3 | E1: J4 | F1: J5 | G1: J6 | H1: J7
B2: 46284 | C2: 46298 | D2: 46312 | E2: 46333 | F2: 46347 | G2: 46361 | H2: 46368
A3: Equipe 1 | B3: ='Equipe 1'!J5 -> VARCES VIF TT 1 | C3: ='Equipe 1'!$G$9 -> CTT GESSIEN 1 | D3: ='Equipe 1'!$G$12 -> MONTLUCON ASPTT 1 | E3: ='Equipe 1'!$J$15 -> LYON 08 ASUL TT 5 | F3: ='Equipe 1'!$G$18 -> Villefranche/Saône TTCAV 2 | G3: ='Equipe 1'!$J$24 -> CUSSET TT 2 | H3: ='Equipe 1'!$G$28 -> CHAMP SUR DRAC CTT 1 | I3: Régionale 2
A4: Equipe 2 | B4: ='Equipe 2'!J5 -> TT TRICASTIN (2) | C4: ='Equipe 2'!$G$9 -> MONTELIER (2) | D4: ='Equipe 2'!$G$12 -> GOUBETOIS TT (2) | E4: ='Equipe 2'!$J$15 -> TOURNON ERTT (2) | F4: ='Equipe 2'!$G$18 -> PRIVAS SC TT (2) | G4: ='Equipe 2'!$J$24 -> AIRE PING (2) | H4: ='Equipe 2'!$G$28 -> LE CHEYLARD TT (2) | I4: Pré-régionale
A5: Equipe 3 | B5: ='Equipe 3'!$G$2 -> ROMANS ASPTT (6) | C5: ='Equipe 3'!$J$9 -> MONTELIER (3) | D5: ='Equipe 3'!$J$13 -> BLACONS-CREST (1) | E5: ='Equipe 3'!$G$16 -> LA VOULTE STT (1) | F5: ='Equipe 3'!$J$21 -> LE TEIL (2) | G5: ='Equipe 3'!$G$23 -> PING VALLON PA (1) | H5: ='Equipe 3'!$J$29 -> POUZINOIS TT (4) | I5: D1
A6: Equipe 4 | B6: ='Equipe 4'!$G$2 -> ROMANS ASPTT (7) | C6: ='Equipe 4'!$J$9 -> AUBENAS-VALS TT (4) | D6: ='Equipe 4'!$J$13 -> TT TRICASTIN (3) | E6: ='Equipe 4'!$G$16 -> LE CHEYLARD TT (3) | F6: ='Equipe 4'!$J$21 -> A.T.T. SUD ARDECHE DROME (1) | G6: ='Equipe 4'!$G$23 -> LE TEIL (4) | H6: ='Equipe 5'!$J$29 -> PRIVAS SC TT (4) | I6: D2
A7: Equipe 5 | B7: ='Equipe 5'!$G$2 -> TT TRICASTIN (4) | C7: ='Equipe 5'!$J$9 -> MONTELIER (4) | D7: ='Equipe 5'!$J$13 -> LE TEIL (5) | E7: ='Equipe 5'!$G$16 -> LE CHEYLARD TT (4) | F7: ='Equipe 5'!$J$21 -> DIEULEFIT PPC (1) | G7: ='Equipe 5'!$G$23 -> TT MANTHES (5) | H7: ='Equipe 4'!$J$29 -> POUZINOIS TT (5) | I7: D2
A8: Equipe 6 | B8: ='Equipe 6'!J5 -> PRIVAS SC TT (7) | C8: ='Equipe 6'!$G$9 -> MONTELIER (5) | D8: ='Equipe 6'!$G$12 -> BLACONS-CREST (3) | E8: ='Equipe 6'!$J$15 -> PING VALLON PA (3) | F8: ='Equipe 6'!$G$18 -> ROMANS ASPTT (8) | G8: ='Equipe 6'!$J$24 -> EXEMPTE | H8: ='Equipe 6'!$G$28 -> A.T.T. SUD ARDECHE DROME (2) | I8: D3
A9: Equipe 7 | B9: ='Equipe 7'!$G$2 -> 0 | C9: ='Equipe 7'!$J$9 -> 0 | D9: ='Equipe 7'!$J$13 -> 0 | E9: ='Equipe 7'!$G$16 -> 0 | F9: ='Equipe 7'!$J$21 -> 0 | G9: ='Equipe 7'!$G$23 -> 0 | H9: ='Equipe 7'!$J$29 -> 0 | I9: D3
B11: Domicile Bachelard | C11: Domicile COSEC | D11: Domicile Valentin | E11: Extérieur
